BEGIN:VCALENDAR
VERSION:2.0
PRODID:-//eventon.com NONSGML v1.0//EN
CALSCALE:GREGORIAN
METHOD:PUBLISH
BEGIN:VEVENT
UID:69e7431c95919
DTSTAMP:20260421T092756Z
DTSTART:20231006
DTEND:20231007
LOCATION:
SUMMARY:Besuch der Bauakademie
DESCRIPTION:&nbsp;\nhttps://pts-koeflach.at/events/besuch-der-bauakademie
URL:https://pts-koeflach.at/events/besuch-der-bauakademie
END:VEVENT
END:VCALENDAR