BEGIN:VCALENDAR
VERSION:2.0
PRODID:-//eventon.com NONSGML v1.0//EN
CALSCALE:GREGORIAN
METHOD:PUBLISH
BEGIN:VEVENT
UID:69e4eb3d32100
DTSTAMP:20260419T144829Z
DTSTART:20230612
DTEND:20230613
LOCATION:
SUMMARY:Englisch: 4. Schularbeit
DESCRIPTION:&nbsp;\nhttps://pts-koeflach.at/events/englisch-4-schularbeit
URL:https://pts-koeflach.at/events/englisch-4-schularbeit
END:VEVENT
END:VCALENDAR